BEGIN:VCALENDAR
VERSION:2.0
PRODID:-//DC SCORES - ECPv6.15.20//NONSGML v1.0//EN
CALSCALE:GREGORIAN
METHOD:PUBLISH
X-WR-CALNAME:DC SCORES
X-ORIGINAL-URL:https://www.dcscores.org
X-WR-CALDESC:Events for DC SCORES
REFRESH-INTERVAL;VALUE=DURATION:PT1H
X-Robots-Tag:noindex
X-PUBLISHED-TTL:PT1H
BEGIN:VTIMEZONE
TZID:America/New_York
BEGIN:DAYLIGHT
TZOFFSETFROM:-0500
TZOFFSETTO:-0400
TZNAME:EDT
DTSTART:20250309T070000
END:DAYLIGHT
BEGIN:STANDARD
TZOFFSETFROM:-0400
TZOFFSETTO:-0500
TZNAME:EST
DTSTART:20251102T060000
END:STANDARD
BEGIN:DAYLIGHT
TZOFFSETFROM:-0500
TZOFFSETTO:-0400
TZNAME:EDT
DTSTART:20260308T070000
END:DAYLIGHT
BEGIN:STANDARD
TZOFFSETFROM:-0400
TZOFFSETTO:-0500
TZNAME:EST
DTSTART:20261101T060000
END:STANDARD
BEGIN:DAYLIGHT
TZOFFSETFROM:-0500
TZOFFSETTO:-0400
TZNAME:EDT
DTSTART:20270314T070000
END:DAYLIGHT
BEGIN:STANDARD
TZOFFSETFROM:-0400
TZOFFSETTO:-0500
TZNAME:EST
DTSTART:20271107T060000
END:STANDARD
END:VTIMEZONE
BEGIN:VEVENT
DTSTART;TZID=America/New_York:20260420T180000
DTEND;TZID=America/New_York:20260420T200000
DTSTAMP:20260419T135117
CREATED:20250823T032000Z
LAST-MODIFIED:20250823T033703Z
UID:10000151-1776708000-1776715200@www.dcscores.org
SUMMARY:Poetry Coach Midseason Training
DESCRIPTION:Please note: this event is for registered DC SCORES poetry coaches only. This training is offered virtually.  \n\n\n\nCoaches are invited to a mid-season virtual training session that will provide DC SCORES writing/service-learning curriculum updates\, best practice reviews\, and the opportunity to provide feedback and discuss the season with peers and DC SCORES Programs team staff.  \n\n\n\nCoaches will be compensated for their attendance\, per the coach compensation policy. \n\n\n\nMeeting details will be posted to the Coach Resource Center in advance of the event. 
URL:https://www.dcscores.org/event/poetry-coach-midseason-training/2026-04-20/
CATEGORIES:Programs,Coaches
ATTACH;FMTTYPE=image/png:https://www.dcscores.org/wp-content/uploads/2025/08/Poetry-Coach-Feature.png
END:VEVENT
BEGIN:VEVENT
DTSTART;TZID=America/New_York:20260421T180000
DTEND;TZID=America/New_York:20260421T200000
DTSTAMP:20260419T135117
CREATED:20250823T030555Z
LAST-MODIFIED:20250823T033838Z
UID:10000146-1776794400-1776801600@www.dcscores.org
SUMMARY:Soccer Coach Midseason Training
DESCRIPTION:Please note: this event is for registered DC SCORES soccer coaches only. This training is offered virtually.  \n\n\n\nCoaches are invited to a mid-season virtual training session that will provide DC SCORES soccer curriculum updates\, best practice reviews\, and the opportunity to provide feedback and discuss the season with peers and DC SCORES Programs team staff.  \n\n\n\nCoaches will be compensated for their attendance\, per the coach compensation policy. \n\n\n\nMeeting details will be posted to the Coach Resource Center in advance of the event. 
URL:https://www.dcscores.org/event/soccer-coach-midseason-training/2026-04-21/
CATEGORIES:Programs,Coaches
ATTACH;FMTTYPE=image/png:https://www.dcscores.org/wp-content/uploads/2024/08/Untitled-design.png
END:VEVENT
END:VCALENDAR